BEGIN:VCALENDAR
VERSION:2.0
PRODID:-//Sophicity/Tribune/Austell, GA
BEGIN:VEVENT
DTSTAMP:20260425T152451Z
UID:a1733420-de66-4c35-a6bc-729777b7b117-6485
DTSTART:20260505T130000Z
DTEND:20260505T140000Z
LOCATION:Threadmill Complex
CLASS:PUBLIC
SUMMARY:Budget Workshop
END:VEVENT
END:VCALENDAR
