BEGIN:VCALENDAR
VERSION:2.0
PRODID:-//Sophicity/Tribune/Austell, GA
BEGIN:VEVENT
DTSTAMP:20260425T170115Z
UID:a1733420-de66-4c35-a6bc-729777b7b117-6479
DTSTART:20260304T143000Z
DTEND:20260304T200000Z
LOCATION:Douglasville Conference Center
CLASS:PUBLIC
SUMMARY:City Council - Planning Meeting
END:VEVENT
END:VCALENDAR
