BEGIN:VCALENDAR
VERSION:2.0
PRODID:-//Sophicity/Tribune/Austell, GA
BEGIN:VEVENT
DTSTAMP:20260425T230911Z
UID:a1733420-de66-4c35-a6bc-729777b7b117-6472
DTSTART:20261217T220000Z
DTEND:20261217T230000Z
CLASS:PUBLIC
SUMMARY:Council Material Due by 5pm
END:VEVENT
END:VCALENDAR
