BEGIN:VCALENDAR
VERSION:2.0
PRODID:-//Sophicity/Tribune/Austell, GA
BEGIN:VEVENT
DTSTAMP:20260425T230911Z
UID:a1733420-de66-4c35-a6bc-729777b7b117-6469
DTSTART:20260916T183000Z
DTEND:20260916T193000Z
CLASS:PUBLIC
SUMMARY:Committee Meeting
END:VEVENT
END:VCALENDAR
