BEGIN:VCALENDAR
VERSION:2.0
PRODID:-//Sophicity/Tribune/Austell, GA
BEGIN:VEVENT
DTSTAMP:20260426T005312Z
UID:a1733420-de66-4c35-a6bc-729777b7b117-6468
DTSTART:20261021T183000Z
DTEND:20261021T193000Z
CLASS:PUBLIC
SUMMARY:Committee Meeting
END:VEVENT
END:VCALENDAR
