BEGIN:VCALENDAR
VERSION:2.0
PRODID:-//Sophicity/Tribune/Austell, GA
BEGIN:VEVENT
DTSTAMP:20260425T231907Z
UID:a1733420-de66-4c35-a6bc-729777b7b117-6466
DTSTART:20261216T193000Z
DTEND:20261216T203000Z
CLASS:PUBLIC
SUMMARY:Committee Meeting
END:VEVENT
END:VCALENDAR
