BEGIN:VCALENDAR
VERSION:2.0
PRODID:-//Sophicity/Tribune/Austell, GA
BEGIN:VEVENT
DTSTAMP:20260426T005440Z
UID:a1733420-de66-4c35-a6bc-729777b7b117-6462
DTSTART:20261028T190000Z
DTEND:20261028T210000Z
CLASS:PUBLIC
SUMMARY:Bench Court 3pm
END:VEVENT
END:VCALENDAR
