BEGIN:VCALENDAR
VERSION:2.0
PRODID:-//Sophicity/Tribune/Austell, GA
BEGIN:VEVENT
DTSTAMP:20260426T005454Z
UID:a1733420-de66-4c35-a6bc-729777b7b117-6456
DTSTART:20261013T220000Z
DTEND:20261013T230000Z
CLASS:PUBLIC
SUMMARY:P&Z Meeting 6pm
END:VEVENT
END:VCALENDAR
