BEGIN:VCALENDAR
VERSION:2.0
PRODID:-//Sophicity/Tribune/Austell, GA
BEGIN:VEVENT
DTSTAMP:20260426T005440Z
UID:a1733420-de66-4c35-a6bc-729777b7b117-6455
DTSTART:20261110T230000Z
DTEND:20261111T000000Z
CLASS:PUBLIC
SUMMARY:P&Z Meeting 6pm
END:VEVENT
END:VCALENDAR
