BEGIN:VCALENDAR
VERSION:2.0
PRODID:-//Sophicity/Tribune/Austell, GA
BEGIN:VEVENT
DTSTAMP:20260425T231946Z
UID:a1733420-de66-4c35-a6bc-729777b7b117-6454
DTSTART:20261208T230000Z
DTEND:20261209T000000Z
CLASS:PUBLIC
SUMMARY:P&Z Meeting 6pm
END:VEVENT
END:VCALENDAR
