BEGIN:VCALENDAR
VERSION:2.0
PRODID:-//Sophicity/Tribune/Austell, GA
BEGIN:VEVENT
DTSTAMP:20260426T005517Z
UID:a1733420-de66-4c35-a6bc-729777b7b117-6452
DTSTART:20261104T200000Z
DTEND:20261104T220000Z
CLASS:PUBLIC
SUMMARY:Arraignment Court 3pm
END:VEVENT
END:VCALENDAR
