BEGIN:VCALENDAR
VERSION:2.0
PRODID:-//Sophicity/Tribune/Austell, GA
BEGIN:VEVENT
DTSTAMP:20260426T005313Z
UID:a1733420-de66-4c35-a6bc-729777b7b117-6451
DTSTART:20261111T200000Z
DTEND:20261111T220000Z
CLASS:PUBLIC
SUMMARY:Arraignment Court 3pm
END:VEVENT
END:VCALENDAR
