BEGIN:VCALENDAR
VERSION:2.0
PRODID:-//Sophicity/Tribune/Austell, GA
BEGIN:VEVENT
DTSTAMP:20260425T213754Z
UID:a1733420-de66-4c35-a6bc-729777b7b117-6448
DTSTART:20260811T190000Z
DTEND:20260811T210000Z
CLASS:PUBLIC
SUMMARY:Arraignment Court 3pm
END:VEVENT
END:VCALENDAR
