BEGIN:VCALENDAR
VERSION:2.0
PRODID:-//Sophicity/Tribune/Austell, GA
BEGIN:VEVENT
DTSTAMP:20260425T230851Z
UID:a1733420-de66-4c35-a6bc-729777b7b117-6446
DTSTART:20261007T190000Z
DTEND:20261007T210000Z
CLASS:PUBLIC
SUMMARY:Arraignment Court 3pm
END:VEVENT
END:VCALENDAR
