BEGIN:VCALENDAR
VERSION:2.0
PRODID:-//Sophicity/Tribune/Austell, GA
BEGIN:VEVENT
DTSTAMP:20260426T005314Z
UID:a1733420-de66-4c35-a6bc-729777b7b117-6445
DTSTART:20261021T190000Z
DTEND:20261021T210000Z
CLASS:PUBLIC
SUMMARY:Arraignment Court 3pm
END:VEVENT
END:VCALENDAR
