BEGIN:VCALENDAR
VERSION:2.0
PRODID:-//Sophicity/Tribune/Austell, GA
BEGIN:VEVENT
DTSTAMP:20260425T200845Z
UID:a1733420-de66-4c35-a6bc-729777b7b117-6442
DTSTART:20260722T190000Z
DTEND:20260722T210000Z
CLASS:PUBLIC
SUMMARY:Arraignment Court 3pm
END:VEVENT
END:VCALENDAR
