BEGIN:VCALENDAR
VERSION:2.0
PRODID:-//Sophicity/Tribune/Austell, GA
BEGIN:VEVENT
DTSTAMP:20260425T213746Z
UID:a1733420-de66-4c35-a6bc-729777b7b117-6437
DTSTART:20261228T230000Z
DTEND:20261229T000000Z
CLASS:PUBLIC
SUMMARY:Pre-Agenda Meeting 6 pm
END:VEVENT
END:VCALENDAR
