BEGIN:VCALENDAR
VERSION:2.0
PRODID:-//Sophicity/Tribune/Austell, GA
BEGIN:VEVENT
DTSTAMP:20260425T182453Z
UID:a1733420-de66-4c35-a6bc-729777b7b117-6435
DTSTART:20260706T220000Z
DTEND:20260706T230000Z
CLASS:PUBLIC
SUMMARY:Pre-Agenda Meeting 6 pm
END:VEVENT
END:VCALENDAR
