BEGIN:VCALENDAR
VERSION:2.0
PRODID:-//Sophicity/Tribune/Austell, GA
BEGIN:VEVENT
DTSTAMP:20260425T231837Z
UID:a1733420-de66-4c35-a6bc-729777b7b117-6432
DTSTART:20261224T130000Z
DTEND:20261224T210000Z
CLASS:PUBLIC
SUMMARY:Christmas Eve City Offices Closed
END:VEVENT
END:VCALENDAR
