BEGIN:VCALENDAR
VERSION:2.0
PRODID:-//Sophicity/Tribune/Austell, GA
BEGIN:VEVENT
DTSTAMP:20260425T231907Z
UID:a1733420-de66-4c35-a6bc-729777b7b117-6431
DTSTART:20261225T130000Z
DTEND:20261225T210000Z
CLASS:PUBLIC
SUMMARY:Christmas Day City Offices Closed
END:VEVENT
END:VCALENDAR
