BEGIN:VCALENDAR
VERSION:2.0
PRODID:-//Sophicity/Tribune/Austell, GA
BEGIN:VEVENT
DTSTAMP:20260426T005441Z
UID:a1733420-de66-4c35-a6bc-729777b7b117-6430
DTSTART:20261127T130000Z
DTEND:20261127T210000Z
CLASS:PUBLIC
SUMMARY:City Offices Closed
END:VEVENT
END:VCALENDAR
