BEGIN:VCALENDAR
VERSION:2.0
PRODID:-//Sophicity/Tribune/Austell, GA
BEGIN:VEVENT
DTSTAMP:20260425T182752Z
UID:a1733420-de66-4c35-a6bc-729777b7b117-6429
DTSTART:20260704T120000Z
DTEND:20260704T200000Z
CLASS:PUBLIC
SUMMARY:Independence Day 
END:VEVENT
END:VCALENDAR
