BEGIN:VCALENDAR
VERSION:2.0
PRODID:-//Sophicity/Tribune/Austell, GA
BEGIN:VEVENT
DTSTAMP:20260425T195707Z
UID:a1733420-de66-4c35-a6bc-729777b7b117-6428
DTSTART:20260804T120000Z
DTEND:20260804T200000Z
CLASS:PUBLIC
SUMMARY:Austell Police National Night Out
END:VEVENT
END:VCALENDAR
