BEGIN:VCALENDAR
VERSION:2.0
PRODID:-//Sophicity/Tribune/Austell, GA
BEGIN:VEVENT
DTSTAMP:20260425T213810Z
UID:a1733420-de66-4c35-a6bc-729777b7b117-6427
DTSTART:20260829T120000Z
DTEND:20260829T200000Z
CLASS:PUBLIC
SUMMARY:BBQ, Blues & Brews Labor Day Festival
END:VEVENT
END:VCALENDAR
