BEGIN:VCALENDAR
VERSION:2.0
PRODID:-//Sophicity/Tribune/Austell, GA
BEGIN:VEVENT
DTSTAMP:20260426T005644Z
UID:a1733420-de66-4c35-a6bc-729777b7b117-6425
DTSTART:20261030T120000Z
DTEND:20261030T200000Z
CLASS:PUBLIC
SUMMARY:Trunk or Treat 6pm
END:VEVENT
END:VCALENDAR
