BEGIN:VCALENDAR
VERSION:2.0
PRODID:-//Sophicity/Tribune/Austell, GA
BEGIN:VEVENT
DTSTAMP:20260426T005328Z
UID:a1733420-de66-4c35-a6bc-729777b7b117-6424
DTSTART:20261126T130000Z
DTEND:20261126T210000Z
CLASS:PUBLIC
SUMMARY:Thanksgiving Day City Offices Closed
END:VEVENT
END:VCALENDAR
