BEGIN:VCALENDAR
VERSION:2.0
PRODID:-//Sophicity/Tribune/Austell, GA
BEGIN:VEVENT
DTSTAMP:20260425T182933Z
UID:a1733420-de66-4c35-a6bc-729777b7b117-6423
DTSTART:20260703T120000Z
DTEND:20260703T200000Z
CLASS:PUBLIC
SUMMARY:Independence Day Observed City Offices Closed
END:VEVENT
END:VCALENDAR
