BEGIN:VCALENDAR
VERSION:2.0
PRODID:-//Sophicity/Tribune/Austell, GA
BEGIN:VEVENT
DTSTAMP:20260425T183054Z
UID:a1733420-de66-4c35-a6bc-729777b7b117-6422
DTSTART:20260706T230000Z
DTEND:20260707T000000Z
CLASS:PUBLIC
SUMMARY:Council Meeting 7pm
END:VEVENT
END:VCALENDAR
