BEGIN:VCALENDAR
VERSION:2.0
PRODID:-//Sophicity/Tribune/Austell, GA
BEGIN:VEVENT
DTSTAMP:20260425T231907Z
UID:a1733420-de66-4c35-a6bc-729777b7b117-6417
DTSTART:20261208T000000Z
DTEND:20261208T010000Z
CLASS:PUBLIC
SUMMARY:Council Meeting 7pm
END:VEVENT
END:VCALENDAR
