BEGIN:VCALENDAR
VERSION:2.0
PRODID:-//Sophicity/Tribune/Austell, GA
BEGIN:VEVENT
DTSTAMP:20260425T183006Z
UID:a1733420-de66-4c35-a6bc-729777b7b117-6415
DTSTART:20260612T230000Z
DTEND:20260613T020000Z
CLASS:PUBLIC
SUMMARY:Juneteenth Midnight Train Event
END:VEVENT
END:VCALENDAR
