BEGIN:VCALENDAR
VERSION:2.0
PRODID:-//Sophicity/Tribune/Austell, GA
BEGIN:VEVENT
DTSTAMP:20260425T182636Z
UID:a1733420-de66-4c35-a6bc-729777b7b117-6409
DTSTART:20260617T190000Z
DTEND:20260617T210000Z
CLASS:PUBLIC
SUMMARY:Bench Court 3pm
END:VEVENT
END:VCALENDAR
