BEGIN:VCALENDAR
VERSION:2.0
PRODID:-//Sophicity/Tribune/Austell, GA
BEGIN:VEVENT
DTSTAMP:20260425T195538Z
UID:a1733420-de66-4c35-a6bc-729777b7b117-6402
DTSTART:20260121T193000Z
DTEND:20260121T203000Z
CLASS:PUBLIC
SUMMARY:Committee Meeting
END:VEVENT
END:VCALENDAR
