BEGIN:VCALENDAR
VERSION:2.0
PRODID:-//Sophicity/Tribune/Austell, GA
BEGIN:VEVENT
DTSTAMP:20260425T170202Z
UID:a1733420-de66-4c35-a6bc-729777b7b117-6398
DTSTART:20260518T210000Z
DTEND:20260518T220000Z
CLASS:PUBLIC
SUMMARY:Council Material Due by 5pm
END:VEVENT
END:VCALENDAR
