BEGIN:VCALENDAR
VERSION:2.0
PRODID:-//Sophicity/Tribune/Austell, GA
BEGIN:VEVENT
DTSTAMP:20260425T170154Z
UID:a1733420-de66-4c35-a6bc-729777b7b117-6385
DTSTART:20260601T230000Z
DTEND:20260602T000000Z
CLASS:PUBLIC
SUMMARY:Council Meeting 7pm
END:VEVENT
END:VCALENDAR
