BEGIN:VCALENDAR
VERSION:2.0
PRODID:-//Sophicity/Tribune/Austell, GA
BEGIN:VEVENT
DTSTAMP:20260425T200809Z
UID:a1733420-de66-4c35-a6bc-729777b7b117-6374
DTSTART:20260114T200000Z
DTEND:20260114T220000Z
CLASS:PUBLIC
SUMMARY:Arraignment Court 3pm
END:VEVENT
END:VCALENDAR
