BEGIN:VCALENDAR
VERSION:2.0
PRODID:-//Sophicity/Tribune/Austell, GA
BEGIN:VEVENT
DTSTAMP:20260425T201439Z
UID:a1733420-de66-4c35-a6bc-729777b7b117-6365
DTSTART:20260119T130000Z
DTEND:20260119T210000Z
CLASS:PUBLIC
SUMMARY:City Offices Closed Martin Luther King Day
END:VEVENT
END:VCALENDAR
