BEGIN:VCALENDAR
VERSION:2.0
PRODID:-//Sophicity/Tribune/Austell, GA
BEGIN:VEVENT
DTSTAMP:20260425T170354Z
UID:a1733420-de66-4c35-a6bc-729777b7b117-6363
DTSTART:20260525T120000Z
DTEND:20260525T200000Z
CLASS:PUBLIC
SUMMARY:Memorial Day City Offices Closed
END:VEVENT
END:VCALENDAR
