BEGIN:VCALENDAR
VERSION:2.0
PRODID:-//Sophicity/Tribune/Austell, GA
BEGIN:VEVENT
DTSTAMP:20260425T213810Z
UID:a1733420-de66-4c35-a6bc-729777b7b117-6353
DTSTART:20251210T000000Z
DTEND:20251210T000000Z
LOCATION:Coats & Clark room
CLASS:PUBLIC
SUMMARY:Cobb Municipal Association Meeting
END:VEVENT
END:VCALENDAR
