BEGIN:VCALENDAR
VERSION:2.0
PRODID:-//Sophicity/Tribune/Austell, GA
BEGIN:VEVENT
DTSTAMP:20260425T213746Z
UID:a1733420-de66-4c35-a6bc-729777b7b117-6348
DTSTART:20251209T230000Z
DTEND:20251210T000000Z
CLASS:PUBLIC
SUMMARY:P&Z Meeting
END:VEVENT
END:VCALENDAR
