BEGIN:VCALENDAR
VERSION:2.0
PRODID:-//Sophicity/Tribune/Austell, GA
BEGIN:VEVENT
DTSTAMP:20260426T005314Z
UID:a1733420-de66-4c35-a6bc-729777b7b117-6342
DTSTART:20250922T220000Z
DTEND:20250922T220000Z
CLASS:PUBLIC
SUMMARY:Special Called Meeting
END:VEVENT
END:VCALENDAR
