BEGIN:VCALENDAR
VERSION:2.0
PRODID:-//Sophicity/Tribune/Austell, GA
BEGIN:VEVENT
DTSTAMP:20260425T200810Z
UID:a1733420-de66-4c35-a6bc-729777b7b117-6338
DTSTART:20250704T120000Z
DTEND:20250704T210000Z
CLASS:PUBLIC
SUMMARY:Independence Day - City Offices Closed
END:VEVENT
END:VCALENDAR
