BEGIN:VCALENDAR
VERSION:2.0
PRODID:-//Sophicity/Tribune/Austell, GA
BEGIN:VEVENT
DTSTAMP:20260425T213912Z
UID:a1733420-de66-4c35-a6bc-729777b7b117-6335
DTSTART:20250714T220000Z
DTEND:20250714T220000Z
CLASS:PUBLIC
SUMMARY:6:00PM Third and Final Reading: Property Tax Millage Rate Public Hearing
END:VEVENT
END:VCALENDAR
