BEGIN:VCALENDAR
VERSION:2.0
PRODID:-//Sophicity/Tribune/Austell, GA
BEGIN:VEVENT
DTSTAMP:20260425T200902Z
UID:a1733420-de66-4c35-a6bc-729777b7b117-6333
DTSTART:20250707T150000Z
DTEND:20250707T160000Z
CLASS:PUBLIC
SUMMARY:11:00 AM Property Tax Millage Rate Public Hearing
END:VEVENT
END:VCALENDAR
