BEGIN:VCALENDAR
VERSION:2.0
PRODID:-//Sophicity/Tribune/Austell, GA
BEGIN:VEVENT
DTSTAMP:20260426T005406Z
UID:a1733420-de66-4c35-a6bc-729777b7b117-6327
DTSTART:20250909T200000Z
DTEND:20250909T220000Z
CLASS:PUBLIC
SUMMARY:P&Z Meeting
END:VEVENT
END:VCALENDAR
