BEGIN:VCALENDAR
VERSION:2.0
PRODID:-//Sophicity/Tribune/Austell, GA
BEGIN:VEVENT
DTSTAMP:20260425T195532Z
UID:a1733420-de66-4c35-a6bc-729777b7b117-6325
DTSTART:20250708T200000Z
DTEND:20250708T220000Z
CLASS:PUBLIC
SUMMARY:P&Z Meeting
END:VEVENT
END:VCALENDAR
