BEGIN:VCALENDAR
VERSION:2.0
PRODID:-//Sophicity/Tribune/Austell, GA
BEGIN:VEVENT
DTSTAMP:20260425T182842Z
UID:a1733420-de66-4c35-a6bc-729777b7b117-6323
DTSTART:20250513T200000Z
DTEND:20250513T220000Z
CLASS:PUBLIC
SUMMARY:P&Z Meeting
END:VEVENT
END:VCALENDAR
