BEGIN:VCALENDAR
VERSION:2.0
PRODID:-//Sophicity/Tribune/Austell, GA
BEGIN:VEVENT
DTSTAMP:20260425T182841Z
UID:a1733420-de66-4c35-a6bc-729777b7b117-6319
DTSTART:20250527T220000Z
DTEND:20250527T220000Z
LOCATION:Council Chambers
CLASS:PUBLIC
SUMMARY:Special Called Meeting
END:VEVENT
END:VCALENDAR
