BEGIN:VCALENDAR
VERSION:2.0
PRODID:-//Sophicity/Tribune/Austell, GA
BEGIN:VEVENT
DTSTAMP:20260425T170115Z
UID:a1733420-de66-4c35-a6bc-729777b7b117-6316
DTSTART:20250507T180000Z
DTEND:20250507T200000Z
LOCATION:Coats & Clark Room
CLASS:PUBLIC
SUMMARY:Budget Workshop
END:VEVENT
END:VCALENDAR
