BEGIN:VCALENDAR
VERSION:2.0
PRODID:-//Sophicity/Tribune/Austell, GA
BEGIN:VEVENT
DTSTAMP:20260425T170153Z
UID:a1733420-de66-4c35-a6bc-729777b7b117-6315
DTSTART:20250421T140000Z
DTEND:20250421T160000Z
CLASS:PUBLIC
SUMMARY:Committee Meetings
END:VEVENT
END:VCALENDAR
