BEGIN:VCALENDAR
VERSION:2.0
PRODID:-//Sophicity/Tribune/Austell, GA
BEGIN:VEVENT
DTSTAMP:20260426T005327Z
UID:a1733420-de66-4c35-a6bc-729777b7b117-6307
DTSTART:20251006T230000Z
DTEND:20251007T000000Z
CLASS:PUBLIC
SUMMARY:Council Meeting
END:VEVENT
END:VCALENDAR
